BEGIN:VCALENDAR
VERSION:2.0
PRODID:LFV Website-Kit
METHOD:PUBLISH
BEGIN:VEVENT
UID:lfv-9e82edde-fcab-4590-be4d-cf578b9e12b8
LOCATION:
SUMMARY:Feuerwehr Aktionstag
DESCRIPTION:Am 26.09.2026 findet am Feuerwehr Gerätehaus in Stammham ein Aktionstag für alle Bürgerinnen und Bürger statt.\n\nTermin Link: https://www.feuerwehr-stammham.de/termine/feuerwehr-aktionstag/
URL:https://www.feuerwehr-stammham.de/termine/feuerwehr-aktionstag/
CLASS:PRIVATE
DTSTART;TZID=Europe/Berlin:20260926T140000
DTEND;TZID=Europe/Berlin:20260926T190000
DTSTAMP:20260422T114454Z
END:VEVENT
END:VCALENDAR